BEGIN:VCALENDAR
VERSION:2.0
PRODID:-//pretix//Anmeldung_DPSG//
BEGIN:VEVENT
UID:pretix-bl-26-ju-bu-0@anmeldung.dpsg.de
DTSTART;VALUE=DATE:20260802
DTEND;VALUE=DATE:20260807
DESCRIPTION:Tickets: https://anmeldung.dpsg.de/bl/26-ju-bu/\nVeranstalter: 
 Deutsche Pfadfinder*innenschaft Sankt Georg
DTSTAMP:20260421T111955Z
LOCATION:DPSG Bundeszentrum Westernohe\, Zum Weitstein 50\, 56479 Westernoh
 e
SUMMARY:Kunterblau 2026
END:VEVENT
END:VCALENDAR
